BEGIN:VCALENDAR
VERSION:2.0
CALSCALE:GREGORIAN
PRODID:adamgibbons/ics
METHOD:PUBLISH
X-PUBLISHED-TTL:PT1H
BEGIN:VEVENT
UID:15@boring.patternclub.org
SUMMARY:Workshop – Remixing weave drafts through pattern play
DTSTAMP:20260425T184031Z
DTSTART:20251004T170000Z
DTEND:20251004T200000Z
DESCRIPTION:Workshop – Remixing weave drafts through pattern play\nhttps://
	patternclub.org/events/workshop-remixing-weave-drafts-through-pattern-play
	/
URL:https://boring.patternclub.org/event/workshop-remixing-weave-drafts-thr
	ough-pattern-play
LOCATION:Pattern Club Sheffield 2-4 Matilda Street - Sheffield\,  S1 4PF
STATUS:CONFIRMED
CATEGORIES:patternclub
X-ALT-DESC;FMTTYPE=text/html: Workshop &#8211; Remixing weave drafts throug
	h pattern play<br>https://patternclub.org/events/workshop-remixing-weave-d
	rafts-through-pattern-play/
BEGIN:VALARM
ACTION:DISPLAY
DESCRIPTION:Workshop – Remixing weave drafts through pattern play
TRIGGER:-PT1H
END:VALARM
END:VEVENT
END:VCALENDAR
