BEGIN:VCALENDAR
VERSION:2.0
CALSCALE:GREGORIAN
PRODID:adamgibbons/ics
METHOD:PUBLISH
X-PUBLISHED-TTL:PT1H
BEGIN:VEVENT
UID:19@boring.patternclub.org
SUMMARY:Weirdo/Noise @ Gut Level
DTSTAMP:20260425T184005Z
DTSTART:20250626T183000Z
DTEND:20250626T220000Z
DESCRIPTION:Weirdo/Noise @ Gut Level https://patternclub.org/events/weirdo-
	noise-gut-level/
URL:https://boring.patternclub.org/event/weirdonoise-gut-level
LOCATION:Gut Level 32-34 Chapel Walk - Sheffield\,  S1 2PD
STATUS:CONFIRMED
CATEGORIES:patternclub
X-ALT-DESC;FMTTYPE=text/html: Weirdo/Noise @ Gut Level<br>https://patterncl
	ub.org/events/weirdo-noise-gut-level/
BEGIN:VALARM
ACTION:DISPLAY
DESCRIPTION:Weirdo/Noise @ Gut Level
TRIGGER:-PT1H
END:VALARM
END:VEVENT
END:VCALENDAR
