BEGIN:VCALENDAR
VERSION:2.0
CALSCALE:GREGORIAN
PRODID:adamgibbons/ics
METHOD:PUBLISH
X-PUBLISHED-TTL:PT1H
BEGIN:VEVENT
UID:4@boring.patternclub.org
SUMMARY:TidalCycles beginners’ live coding workshop
DTSTAMP:20260425T183924Z
DTSTART:20260321T140000Z
DTEND:20260321T170000Z
DESCRIPTION:TidalCycles beginners’ live coding workshop\nhttps://patternclu
	b.org/events/tidalcycles-beginners-live-coding-workshop/
URL:https://boring.patternclub.org/event/tidalcycles-beginners-live-coding-
	workshop
LOCATION:Pattern Club Sheffield 2-4 Matilda Street - Sheffield\,  S1 4PF
STATUS:CONFIRMED
CATEGORIES:patternclub
X-ALT-DESC;FMTTYPE=text/html: TidalCycles beginners&#8217; live coding work
	shop<br>https://patternclub.org/events/tidalcycles-beginners-live-coding-w
	orkshop/
BEGIN:VALARM
ACTION:DISPLAY
DESCRIPTION:TidalCycles beginners’ live coding workshop
TRIGGER:-PT1H
END:VALARM
END:VEVENT
END:VCALENDAR
