BEGIN:VCALENDAR
VERSION:2.0
CALSCALE:GREGORIAN
PRODID:adamgibbons/ics
METHOD:PUBLISH
X-PUBLISHED-TTL:PT1H
BEGIN:VEVENT
UID:12@boring.patternclub.org
SUMMARY:Sounds of Now: Konnakol\,  Drum Kit and Code
DTSTAMP:20260425T184500Z
DTSTART:20251108T200000Z
DTEND:20251108T211500Z
DESCRIPTION:Sounds of Now: Konnakol\, Drum Kit and Code\nhttps://patternclu
	b.org/events/sounds-of-now-konnakol-drum-kit-and-code/
URL:https://boring.patternclub.org/event/sounds-of-now-konnakol-drum-kit-an
	d-code
LOCATION:Crucible Playhouse 55 Norfolk Street - Crucible Playhouse 55 Norfo
	lk Street
STATUS:CONFIRMED
CATEGORIES:patternclub
X-ALT-DESC;FMTTYPE=text/html: Sounds of Now: Konnakol,  Drum Kit and Code<b
	r>https://patternclub.org/events/sounds-of-now-konnakol-drum-kit-and-code/
BEGIN:VALARM
ACTION:DISPLAY
DESCRIPTION:Sounds of Now: Konnakol,  Drum Kit and Code
TRIGGER:-PT1H
END:VALARM
END:VEVENT
END:VCALENDAR
