BEGIN:VCALENDAR
VERSION:2.0
CALSCALE:GREGORIAN
PRODID:adamgibbons/ics
METHOD:PUBLISH
X-PUBLISHED-TTL:PT1H
BEGIN:VEVENT
UID:23@boring.patternclub.org
SUMMARY:Sheffield Live Code Meetup – May 2025
DTSTAMP:20260425T184215Z
DTSTART:20250521T193000Z
DTEND:20250521T213000Z
DESCRIPTION:Sheffield Live Code Meetup – May 2025\nhttps://patternclub.org/
	events/sheffield-live-code-meetup-may-2025/
URL:https://boring.patternclub.org/event/sheffield-live-code-meetup-may-202
	5
LOCATION:Pattern Club Sheffield 2-4 Matilda Street - Sheffield\,  S1 4PF
STATUS:CONFIRMED
CATEGORIES:patternclub
X-ALT-DESC;FMTTYPE=text/html: Sheffield Live Code Meetup &#8211; May 2025<b
	r>https://patternclub.org/events/sheffield-live-code-meetup-may-2025/
BEGIN:VALARM
ACTION:DISPLAY
DESCRIPTION:Sheffield Live Code Meetup – May 2025
TRIGGER:-PT1H
END:VALARM
END:VEVENT
END:VCALENDAR
