BEGIN:VCALENDAR
VERSION:2.0
CALSCALE:GREGORIAN
PRODID:adamgibbons/ics
METHOD:PUBLISH
X-PUBLISHED-TTL:PT1H
BEGIN:VEVENT
UID:25@boring.patternclub.org
SUMMARY:Sheffield Live Code Meetup – March 2025
DTSTAMP:20260425T184255Z
DTSTART:20250319T193000Z
DTEND:20250319T213000Z
DESCRIPTION:Sheffield Live Code Meetup – March 2025\nhttps://patternclub.or
	g/events/sheffield-live-code-meetup-march-2025/
URL:https://boring.patternclub.org/event/sheffield-live-code-meetup-march-2
	025
LOCATION:Pattern Club Sheffield 2-4 Matilda Street - Sheffield\,  S1 4PF
STATUS:CONFIRMED
CATEGORIES:patternclub
X-ALT-DESC;FMTTYPE=text/html: Sheffield Live Code Meetup &#8211; March 2025
	<br>https://patternclub.org/events/sheffield-live-code-meetup-march-2025/
BEGIN:VALARM
ACTION:DISPLAY
DESCRIPTION:Sheffield Live Code Meetup – March 2025
TRIGGER:-PT1H
END:VALARM
END:VEVENT
END:VCALENDAR
