BEGIN:VCALENDAR
VERSION:2.0
CALSCALE:GREGORIAN
PRODID:adamgibbons/ics
METHOD:PUBLISH
X-PUBLISHED-TTL:PT1H
BEGIN:VEVENT
UID:24@boring.patternclub.org
SUMMARY:Sheffield Live Code Meetup – 23rd April 2025 (new date)
DTSTAMP:20260425T184342Z
DTSTART:20250423T193000Z
DTEND:20250423T213000Z
DESCRIPTION:Sheffield Live Code Meetup – 23rd April 2025 (new date)\nhttps:
	//patternclub.org/events/sheffield-live-code-meetup-april-2025/
URL:https://boring.patternclub.org/event/sheffield-live-code-meetup-23rd-ap
	ril-2025-new-date
LOCATION:Pattern Club Sheffield 2-4 Matilda Street - Sheffield\,  S1 4PF
STATUS:CONFIRMED
CATEGORIES:patternclub
X-ALT-DESC;FMTTYPE=text/html: Sheffield Live Code Meetup &#8211; 23rd April
	 2025 (new date)<br>https://patternclub.org/events/sheffield-live-code-mee
	tup-april-2025/
BEGIN:VALARM
ACTION:DISPLAY
DESCRIPTION:Sheffield Live Code Meetup – 23rd April 2025 (new date)
TRIGGER:-PT1H
END:VALARM
END:VEVENT
END:VCALENDAR
