BEGIN:VCALENDAR
VERSION:2.0
CALSCALE:GREGORIAN
PRODID:adamgibbons/ics
METHOD:PUBLISH
X-PUBLISHED-TTL:PT1H
BEGIN:VEVENT
UID:29@boring.patternclub.org
SUMMARY:Performing with patterns: live coding workshop with Yaxu + Eye Meas
	ure
DTSTAMP:20260425T184255Z
DTSTART:20240908T150000Z
DTEND:20240908T180000Z
DESCRIPTION:Performing with patterns: live coding workshop with Yaxu + Eye 
	Measure\nhttps://patternclub.org/events/performing-with-patterns-live-codi
	ng-workshop-with-yaxu-eye-measure/
URL:https://boring.patternclub.org/event/performing-with-patterns-live-codi
	ng-workshop-with-yaxu-eye-measure
LOCATION:Soft ground 37-41 The Moor - Soft ground 37-41 The Moor
STATUS:CONFIRMED
CATEGORIES:patternclub
X-ALT-DESC;FMTTYPE=text/html: Performing with patterns: live coding worksho
	p with Yaxu + Eye Measure<br>https://patternclub.org/events/performing-wit
	h-patterns-live-coding-workshop-with-yaxu-eye-measure/
BEGIN:VALARM
ACTION:DISPLAY
DESCRIPTION:Performing with patterns: live coding workshop with Yaxu + Eye 
	Measure
TRIGGER:-PT1H
END:VALARM
END:VEVENT
END:VCALENDAR
