BEGIN:VCALENDAR
VERSION:2.0
CALSCALE:GREGORIAN
PRODID:adamgibbons/ics
METHOD:PUBLISH
X-PUBLISHED-TTL:PT1H
BEGIN:VEVENT
UID:3@boring.patternclub.org
SUMMARY:Pattern club workshop: (un)weaving patterns
DTSTAMP:20260425T184031Z
DTSTART:20260414T183000Z
DTEND:20260414T203000Z
DESCRIPTION:Pattern club workshop: (un)weaving patterns\nhttps://patternclu
	b.org/events/pattern-club-workshop-unweaving-patterns/
URL:https://boring.patternclub.org/event/pattern-club-workshop-unweaving-pa
	tterns
LOCATION:Pattern Club Sheffield 2-4 Matilda Street - Sheffield\,  S1 4PF
STATUS:CONFIRMED
CATEGORIES:patternclub
X-ALT-DESC;FMTTYPE=text/html: Pattern club workshop: (un)weaving patterns<b
	r>https://patternclub.org/events/pattern-club-workshop-unweaving-patterns/
BEGIN:VALARM
ACTION:DISPLAY
DESCRIPTION:Pattern club workshop: (un)weaving patterns
TRIGGER:-PT1H
END:VALARM
END:VEVENT
END:VCALENDAR
