BEGIN:VCALENDAR
VERSION:2.0
CALSCALE:GREGORIAN
PRODID:adamgibbons/ics
METHOD:PUBLISH
X-PUBLISHED-TTL:PT1H
BEGIN:VEVENT
UID:27@boring.patternclub.org
SUMMARY:Pattern Club Winter School 2025
DTSTAMP:20260425T184255Z
DTSTART:20250111T110000Z
DTEND:20250215T170000Z
DESCRIPTION:Pattern Club Winter School 2025\nhttps://patternclub.org/events
	/pattern-club-winter-school-2025/
URL:https://boring.patternclub.org/event/pattern-club-winter-school-2025
LOCATION:Pattern Club Sheffield 2-4 Matilda Street - Sheffield\,  S1 4PF
STATUS:CONFIRMED
CATEGORIES:patternclub
X-ALT-DESC;FMTTYPE=text/html: Pattern Club Winter School 2025<br>https://pa
	tternclub.org/events/pattern-club-winter-school-2025/
BEGIN:VALARM
ACTION:DISPLAY
DESCRIPTION:Pattern Club Winter School 2025
TRIGGER:-PT1H
END:VALARM
END:VEVENT
END:VCALENDAR
