BEGIN:VCALENDAR
VERSION:2.0
CALSCALE:GREGORIAN
PRODID:adamgibbons/ics
METHOD:PUBLISH
X-PUBLISHED-TTL:PT1H
BEGIN:VEVENT
UID:10@boring.patternclub.org
SUMMARY:Pattern Club radio show
DTSTAMP:20260425T184337Z
DTSTART:20251123T180000Z
DTEND:20251123T190000Z
DESCRIPTION:Pattern Club radio show\nhttps://patternclub.org/events/pattern
	-club-radio-show-copy/
URL:https://boring.patternclub.org/event/pattern-club-radio-show
LOCATION:Unknown Place - Unknown Place
STATUS:CONFIRMED
CATEGORIES:patternclub
X-ALT-DESC;FMTTYPE=text/html: Pattern Club radio show<br>https://patternclu
	b.org/events/pattern-club-radio-show-copy/
BEGIN:VALARM
ACTION:DISPLAY
DESCRIPTION:Pattern Club radio show
TRIGGER:-PT1H
END:VALARM
END:VEVENT
END:VCALENDAR
