BEGIN:VCALENDAR
VERSION:2.0
CALSCALE:GREGORIAN
PRODID:adamgibbons/ics
METHOD:PUBLISH
X-PUBLISHED-TTL:PT1H
BEGIN:VEVENT
UID:11@boring.patternclub.org
SUMMARY:Pattern Club radio show
DTSTAMP:20260425T184358Z
DTSTART:20251026T180000Z
DTEND:20251026T190000Z
DESCRIPTION:Pattern Club radio show https://patternclub.org/events/pattern-
	club-radio-show/
URL:https://boring.patternclub.org/event/pattern-club-radio-show-1
LOCATION:Unknown Place - Unknown Place
STATUS:CONFIRMED
CATEGORIES:patternclub
X-ALT-DESC;FMTTYPE=text/html: Pattern Club radio show<br>https://patternclu
	b.org/events/pattern-club-radio-show/
BEGIN:VALARM
ACTION:DISPLAY
DESCRIPTION:Pattern Club radio show
TRIGGER:-PT1H
END:VALARM
END:VEVENT
END:VCALENDAR
