BEGIN:VCALENDAR
VERSION:2.0
CALSCALE:GREGORIAN
PRODID:adamgibbons/ics
METHOD:PUBLISH
X-PUBLISHED-TTL:PT1H
BEGIN:VEVENT
UID:20@boring.patternclub.org
SUMMARY:Pattern club meetup – POSTPONED
DTSTAMP:20260425T184323Z
DTSTART:20250717T183000Z
DTEND:20250717T210000Z
DESCRIPTION:Pattern club meetup – POSTPONED\nhttps://patternclub.org/events
	/pattern-club-meetup-2/
URL:https://boring.patternclub.org/event/pattern-club-meetup-postponed
LOCATION:Gut Level 32-34 Chapel Walk - Sheffield\,  S1 2PD
STATUS:CONFIRMED
CATEGORIES:patternclub
X-ALT-DESC;FMTTYPE=text/html: Pattern club meetup &#8211; POSTPONED<br>http
	s://patternclub.org/events/pattern-club-meetup-2/
BEGIN:VALARM
ACTION:DISPLAY
DESCRIPTION:Pattern club meetup – POSTPONED
TRIGGER:-PT1H
END:VALARM
END:VEVENT
END:VCALENDAR
