BEGIN:VCALENDAR
VERSION:2.0
CALSCALE:GREGORIAN
PRODID:adamgibbons/ics
METHOD:PUBLISH
X-PUBLISHED-TTL:PT1H
BEGIN:VEVENT
UID:13@boring.patternclub.org
SUMMARY:Pattern club meetup
DTSTAMP:20260425T184209Z
DTSTART:20251016T180000Z
DTEND:20251016T200000Z
DESCRIPTION:Pattern club meetup https://patternclub.org/events/pattern-club
	-meetup-5/
URL:https://boring.patternclub.org/event/pattern-club-meetup-3
LOCATION:Gut Level 32-34 Chapel Walk - Sheffield\,  S1 2PD
STATUS:CONFIRMED
CATEGORIES:patternclub
X-ALT-DESC;FMTTYPE=text/html: Pattern club meetup<br>https://patternclub.or
	g/events/pattern-club-meetup-5/
BEGIN:VALARM
ACTION:DISPLAY
DESCRIPTION:Pattern club meetup
TRIGGER:-PT1H
END:VALARM
END:VEVENT
END:VCALENDAR
