BEGIN:VCALENDAR
VERSION:2.0
CALSCALE:GREGORIAN
PRODID:adamgibbons/ics
METHOD:PUBLISH
X-PUBLISHED-TTL:PT1H
BEGIN:VEVENT
UID:5@boring.patternclub.org
SUMMARY:Pattern Club Live
DTSTAMP:20260425T184004Z
DTSTART:20260730T193000Z
DTEND:20260730T230000Z
DESCRIPTION:Pattern Club Live https://patternclub.org/events/pattern-club-l
	ive/
URL:https://boring.patternclub.org/event/pattern-club-live
LOCATION:Sidney and Matilda Rivelin Works - Sidney St\,  Sheffield S1 4RH
STATUS:CONFIRMED
CATEGORIES:patternclub
X-ALT-DESC;FMTTYPE=text/html: Pattern Club Live<br>https://patternclub.org/
	events/pattern-club-live/
BEGIN:VALARM
ACTION:DISPLAY
DESCRIPTION:Pattern Club Live
TRIGGER:-PT1H
END:VALARM
END:VEVENT
END:VCALENDAR
