BEGIN:VCALENDAR
VERSION:2.0
CALSCALE:GREGORIAN
PRODID:adamgibbons/ics
METHOD:PUBLISH
X-PUBLISHED-TTL:PT1H
BEGIN:VEVENT
UID:34@boring.patternclub.org
SUMMARY:Pattern Club Live #4
DTSTAMP:20260425T184133Z
DTSTART:20231217T193000Z
DTEND:20231217T230000Z
DESCRIPTION:Pattern Club Live #4 https://patternclub.org/events/pattern-clu
	b-live-4/
URL:https://boring.patternclub.org/event/pattern-club-live-4
LOCATION:Theatre Deli Sheffield Arley Street - Theatre Deli Sheffield Arley
	 Street
STATUS:CONFIRMED
CATEGORIES:patternclub
X-ALT-DESC;FMTTYPE=text/html: Pattern Club Live #4<br>https://patternclub.o
	rg/events/pattern-club-live-4/
BEGIN:VALARM
ACTION:DISPLAY
DESCRIPTION:Pattern Club Live #4
TRIGGER:-PT1H
END:VALARM
END:VEVENT
END:VCALENDAR
