BEGIN:VCALENDAR
VERSION:2.0
CALSCALE:GREGORIAN
PRODID:adamgibbons/ics
METHOD:PUBLISH
X-PUBLISHED-TTL:PT1H
BEGIN:VEVENT
UID:40@boring.patternclub.org
SUMMARY:Pattern club live #3
DTSTAMP:20260425T184030Z
DTSTART:20230607T193000Z
DTEND:20230607T230000Z
DESCRIPTION:Pattern club live #3 https://patternclub.org/events/pattern-clu
	b-live-3/
URL:https://boring.patternclub.org/event/pattern-club-live-3
LOCATION:Unknown Place - Unknown Place
STATUS:CONFIRMED
CATEGORIES:patternclub
X-ALT-DESC;FMTTYPE=text/html: Pattern club live #3<br>https://patternclub.o
	rg/events/pattern-club-live-3/
BEGIN:VALARM
ACTION:DISPLAY
DESCRIPTION:Pattern club live #3
TRIGGER:-PT1H
END:VALARM
END:VEVENT
END:VCALENDAR
