BEGIN:VCALENDAR
VERSION:2.0
CALSCALE:GREGORIAN
PRODID:adamgibbons/ics
METHOD:PUBLISH
X-PUBLISHED-TTL:PT1H
BEGIN:VEVENT
UID:49@boring.patternclub.org
SUMMARY:Pattern Club Live
DTSTAMP:20260425T184133Z
DTSTART:20230114T190000Z
DTEND:20230115T010000Z
DESCRIPTION:Pattern Club Live https://patternclub.org/events/pattern-club-l
	ive-1/
URL:https://boring.patternclub.org/event/pattern-club-live-1
LOCATION:Sidney and Matilda Rivelin Works - Sidney St\,  Sheffield S1 4RH
STATUS:CONFIRMED
CATEGORIES:patternclub
X-ALT-DESC;FMTTYPE=text/html: Pattern Club Live<br>https://patternclub.org/
	events/pattern-club-live-1/
BEGIN:VALARM
ACTION:DISPLAY
DESCRIPTION:Pattern Club Live
TRIGGER:-PT1H
END:VALARM
END:VEVENT
END:VCALENDAR
