BEGIN:VCALENDAR
VERSION:2.0
CALSCALE:GREGORIAN
PRODID:adamgibbons/ics
METHOD:PUBLISH
X-PUBLISHED-TTL:PT1H
BEGIN:VEVENT
UID:30@boring.patternclub.org
SUMMARY:Pattern club Algorave #3
DTSTAMP:20260425T184138Z
DTSTART:20240621T183000Z
DTEND:20240621T215900Z
DESCRIPTION:Pattern club Algorave #3 https://patternclub.org/events/pattern
	-club-algorave-3/
URL:https://boring.patternclub.org/event/pattern-club-algorave-3
LOCATION:Sidney and Matilda Rivelin Works - Sidney St\,  Sheffield S1 4RH
STATUS:CONFIRMED
CATEGORIES:patternclub
X-ALT-DESC;FMTTYPE=text/html: Pattern club Algorave #3<br>https://patterncl
	ub.org/events/pattern-club-algorave-3/
BEGIN:VALARM
ACTION:DISPLAY
DESCRIPTION:Pattern club Algorave #3
TRIGGER:-PT1H
END:VALARM
END:VEVENT
END:VCALENDAR
