BEGIN:VCALENDAR
VERSION:2.0
CALSCALE:GREGORIAN
PRODID:adamgibbons/ics
METHOD:PUBLISH
X-PUBLISHED-TTL:PT1H
BEGIN:VEVENT
UID:31@boring.patternclub.org
SUMMARY:Pattern Club Algorave #3
DTSTAMP:20260425T184323Z
DTSTART:20240428T092300Z
DTEND:20240428T092300Z
DESCRIPTION:Pattern Club Algorave #3 https://patternclub.org/?post_type=ajd
	e_events&p=577
URL:https://boring.patternclub.org/event/pattern-club-algorave-3-1
LOCATION:Unknown Place - Unknown Place
STATUS:CONFIRMED
CATEGORIES:patternclub
X-ALT-DESC;FMTTYPE=text/html: Pattern Club Algorave #3<br>https://patterncl
	ub.org/?post_type=ajde_events&p=577
BEGIN:VALARM
ACTION:DISPLAY
DESCRIPTION:Pattern Club Algorave #3
TRIGGER:-PT1H
END:VALARM
END:VEVENT
END:VCALENDAR
