BEGIN:VCALENDAR
VERSION:2.0
CALSCALE:GREGORIAN
PRODID:adamgibbons/ics
METHOD:PUBLISH
X-PUBLISHED-TTL:PT1H
BEGIN:VEVENT
UID:32@boring.patternclub.org
SUMMARY:Pattern Club Algorave #2
DTSTAMP:20260425T184139Z
DTSTART:20240329T193000Z
DTEND:20240329T235900Z
DESCRIPTION:Pattern Club Algorave #2 https://patternclub.org/events/pattern
	-club-algorave-2/
URL:https://boring.patternclub.org/event/pattern-club-algorave-2
LOCATION:Alder Bar Percy St - Neepsend\,  S3 8BT
STATUS:CONFIRMED
CATEGORIES:patternclub
X-ALT-DESC;FMTTYPE=text/html: Pattern Club Algorave #2<br>https://patterncl
	ub.org/events/pattern-club-algorave-2/
BEGIN:VALARM
ACTION:DISPLAY
DESCRIPTION:Pattern Club Algorave #2
TRIGGER:-PT1H
END:VALARM
END:VEVENT
END:VCALENDAR
