BEGIN:VCALENDAR
VERSION:2.0
CALSCALE:GREGORIAN
PRODID:adamgibbons/ics
METHOD:PUBLISH
X-PUBLISHED-TTL:PT1H
BEGIN:VEVENT
UID:37@boring.patternclub.org
SUMMARY:Pattern Club Algorave #1
DTSTAMP:20260425T184138Z
DTSTART:20230928T193000Z
DTEND:20230928T235900Z
DESCRIPTION:Pattern Club Algorave #1 https://patternclub.org/events/pattern
	-club-algorave-1/
URL:https://boring.patternclub.org/event/pattern-club-algorave-1
LOCATION:Sidney and Matilda Rivelin Works - Sidney St\,  Sheffield S1 4RH
STATUS:CONFIRMED
CATEGORIES:patternclub
X-ALT-DESC;FMTTYPE=text/html: Pattern Club Algorave #1<br>https://patterncl
	ub.org/events/pattern-club-algorave-1/
BEGIN:VALARM
ACTION:DISPLAY
DESCRIPTION:Pattern Club Algorave #1
TRIGGER:-PT1H
END:VALARM
END:VEVENT
END:VCALENDAR
