BEGIN:VCALENDAR
VERSION:2.0
CALSCALE:GREGORIAN
PRODID:adamgibbons/ics
METHOD:PUBLISH
X-PUBLISHED-TTL:PT1H
BEGIN:VEVENT
UID:38@boring.patternclub.org
SUMMARY:Pattern Club #8
DTSTAMP:20260425T184026Z
DTSTART:20230822T170000Z
DTEND:20230822T190000Z
DESCRIPTION:Pattern Club #8 https://patternclub.org/events/pattern-club-8/
URL:https://boring.patternclub.org/event/pattern-club-8
LOCATION:Gut Level 32-34 Chapel Walk - Sheffield\,  S1 2PD
STATUS:CONFIRMED
CATEGORIES:patternclub
X-ALT-DESC;FMTTYPE=text/html: Pattern Club #8<br>https://patternclub.org/ev
	ents/pattern-club-8/
BEGIN:VALARM
ACTION:DISPLAY
DESCRIPTION:Pattern Club #8
TRIGGER:-PT1H
END:VALARM
END:VEVENT
END:VCALENDAR
