BEGIN:VCALENDAR
VERSION:2.0
CALSCALE:GREGORIAN
PRODID:adamgibbons/ics
METHOD:PUBLISH
X-PUBLISHED-TTL:PT1H
BEGIN:VEVENT
UID:39@boring.patternclub.org
SUMMARY:Pattern Club #7
DTSTAMP:20260425T184004Z
DTSTART:20230627T180000Z
DTEND:20230627T200000Z
DESCRIPTION:Pattern Club #7 https://patternclub.org/events/pattern-club-7-2
	/
URL:https://boring.patternclub.org/event/pattern-club-7
LOCATION:DINA Venue Fitzalan Square - DINA Venue Fitzalan Square
STATUS:CONFIRMED
CATEGORIES:patternclub
X-ALT-DESC;FMTTYPE=text/html: Pattern Club #7<br>https://patternclub.org/ev
	ents/pattern-club-7-2/
BEGIN:VALARM
ACTION:DISPLAY
DESCRIPTION:Pattern Club #7
TRIGGER:-PT1H
END:VALARM
END:VEVENT
END:VCALENDAR
