BEGIN:VCALENDAR
VERSION:2.0
CALSCALE:GREGORIAN
PRODID:adamgibbons/ics
METHOD:PUBLISH
X-PUBLISHED-TTL:PT1H
BEGIN:VEVENT
UID:43@boring.patternclub.org
SUMMARY:Pattern club #6
DTSTAMP:20260425T184025Z
DTSTART:20230321T180000Z
DTEND:20230321T200000Z
DESCRIPTION:Pattern club #6 https://patternclub.org/events/pattern-club-6/
URL:https://boring.patternclub.org/event/pattern-club-6
LOCATION:Access Space @ Event Central Fargate - Access Space @ Event Centra
	l Fargate
STATUS:CONFIRMED
CATEGORIES:patternclub
X-ALT-DESC;FMTTYPE=text/html: Pattern club #6<br>https://patternclub.org/ev
	ents/pattern-club-6/
BEGIN:VALARM
ACTION:DISPLAY
DESCRIPTION:Pattern club #6
TRIGGER:-PT1H
END:VALARM
END:VEVENT
END:VCALENDAR
