BEGIN:VCALENDAR
VERSION:2.0
CALSCALE:GREGORIAN
PRODID:adamgibbons/ics
METHOD:PUBLISH
X-PUBLISHED-TTL:PT1H
BEGIN:VEVENT
UID:45@boring.patternclub.org
SUMMARY:Pattern club #4
DTSTAMP:20260425T183923Z
DTSTART:20230124T180000Z
DTEND:20230124T200000Z
DESCRIPTION:Pattern club #4 https://patternclub.org/events/pattern-club-4/
URL:https://boring.patternclub.org/event/pattern-club-4
LOCATION:DINA Venue Fitzalan Square - DINA Venue Fitzalan Square
STATUS:CONFIRMED
CATEGORIES:patternclub
X-ALT-DESC;FMTTYPE=text/html: Pattern club #4<br>https://patternclub.org/ev
	ents/pattern-club-4/
BEGIN:VALARM
ACTION:DISPLAY
DESCRIPTION:Pattern club #4
TRIGGER:-PT1H
END:VALARM
END:VEVENT
END:VCALENDAR
