BEGIN:VCALENDAR
VERSION:2.0
CALSCALE:GREGORIAN
PRODID:adamgibbons/ics
METHOD:PUBLISH
X-PUBLISHED-TTL:PT1H
BEGIN:VEVENT
UID:46@boring.patternclub.org
SUMMARY:Pattern club #3
DTSTAMP:20260425T183923Z
DTSTART:20221220T180000Z
DTEND:20221220T200000Z
DESCRIPTION:Pattern club #3 https://patternclub.org/events/pattern-club-3/
URL:https://boring.patternclub.org/event/pattern-club-3
LOCATION:Access Space @ Event Central Fargate - Access Space @ Event Centra
	l Fargate
STATUS:CONFIRMED
CATEGORIES:patternclub
X-ALT-DESC;FMTTYPE=text/html: Pattern club #3<br>https://patternclub.org/ev
	ents/pattern-club-3/
BEGIN:VALARM
ACTION:DISPLAY
DESCRIPTION:Pattern club #3
TRIGGER:-PT1H
END:VALARM
END:VEVENT
END:VCALENDAR
