BEGIN:VCALENDAR
VERSION:2.0
CALSCALE:GREGORIAN
PRODID:adamgibbons/ics
METHOD:PUBLISH
X-PUBLISHED-TTL:PT1H
BEGIN:VEVENT
UID:28@boring.patternclub.org
SUMMARY:Making music with synths and code – Pattern Club & Distribution of 
	Power workshop
DTSTAMP:20260425T184506Z
DTSTART:20241026T140000Z
DTEND:20241026T180000Z
DESCRIPTION:Making music with synths and code – Pattern Club & Distribution
	 of\nPower workshop\nhttps://patternclub.org/events/making-music-with-synt
	hs-and-code-pattern-club-distribution-of-power-workshop/
URL:https://boring.patternclub.org/event/making-music-with-synths-and-code-
	pattern-club-and-distribution-of-power-workshop
LOCATION:Gut Level 32-34 Chapel Walk - Sheffield\,  S1 2PD
STATUS:CONFIRMED
CATEGORIES:patternclub
X-ALT-DESC;FMTTYPE=text/html: Making music with synths and code &#8211; Pat
	tern Club &amp; Distribution of Power workshop<br>https://patternclub.org/
	events/making-music-with-synths-and-code-pattern-club-distribution-of-powe
	r-workshop/
BEGIN:VALARM
ACTION:DISPLAY
DESCRIPTION:Making music with synths and code – Pattern Club & Distribution
	 of Power workshop
TRIGGER:-PT1H
END:VALARM
END:VEVENT
END:VCALENDAR
