BEGIN:VCALENDAR
VERSION:2.0
CALSCALE:GREGORIAN
PRODID:adamgibbons/ics
METHOD:PUBLISH
X-PUBLISHED-TTL:PT1H
BEGIN:VEVENT
UID:36@boring.patternclub.org
SUMMARY:Late night event: Pattern Club x AMLEDD
DTSTAMP:20260425T184342Z
DTSTART:20231020T220000Z
DTEND:20231021T050000Z
DESCRIPTION:Late night event: Pattern Club x AMLEDD\nhttps://patternclub.or
	g/events/late-night-event-pattern-club-x-amledd/
URL:https://boring.patternclub.org/event/late-night-event-pattern-club-x-am
	ledd
LOCATION:Unknown Place - Unknown Place
STATUS:CONFIRMED
CATEGORIES:patternclub
X-ALT-DESC;FMTTYPE=text/html: Late night event: Pattern Club x AMLEDD<br>ht
	tps://patternclub.org/events/late-night-event-pattern-club-x-amledd/
BEGIN:VALARM
ACTION:DISPLAY
DESCRIPTION:Late night event: Pattern Club x AMLEDD
TRIGGER:-PT1H
END:VALARM
END:VEVENT
END:VCALENDAR
