BEGIN:VCALENDAR
VERSION:2.0
CALSCALE:GREGORIAN
PRODID:adamgibbons/ics
METHOD:PUBLISH
X-PUBLISHED-TTL:PT1H
BEGIN:VEVENT
UID:33@boring.patternclub.org
SUMMARY:Kambi Kolam workshop with Anuradha Reddy
DTSTAMP:20260425T184501Z
DTSTART:20240220T180000Z
DTEND:20240220T203000Z
DESCRIPTION:Kambi Kolam workshop with Anuradha Reddy\nhttps://patternclub.o
	rg/events/kambi-kolam-workshop-with-anuradha-reddy/
URL:https://boring.patternclub.org/event/kambi-kolam-workshop-with-anuradha
	-reddy
LOCATION:Theatre Deli Sheffield Arley Street - Theatre Deli Sheffield Arley
	 Street
STATUS:CONFIRMED
CATEGORIES:patternclub
X-ALT-DESC;FMTTYPE=text/html: Kambi Kolam workshop with Anuradha Reddy<br>h
	ttps://patternclub.org/events/kambi-kolam-workshop-with-anuradha-reddy/
BEGIN:VALARM
ACTION:DISPLAY
DESCRIPTION:Kambi Kolam workshop with Anuradha Reddy
TRIGGER:-PT1H
END:VALARM
END:VEVENT
END:VCALENDAR
