BEGIN:VCALENDAR
VERSION:2.0
CALSCALE:GREGORIAN
PRODID:adamgibbons/ics
METHOD:PUBLISH
X-PUBLISHED-TTL:PT1H
BEGIN:VEVENT
UID:22@boring.patternclub.org
SUMMARY:Hatch x Pattern Club: c_robo_ / Iris Ipsum / Epiploke / sclews
DTSTAMP:20260425T184506Z
DTSTART:20250607T190000Z
DTEND:20250607T230000Z
DESCRIPTION:Hatch x Pattern Club: c_robo_ / Iris Ipsum / Epiploke / sclews\
	nhttps://patternclub.org/events/hatch-x-pattern-club-c_robo_-iris-ipsum-ep
	iploke-sclews/
URL:https://boring.patternclub.org/event/hatch-x-pattern-club-c_robo_-iris-
	ipsum-epiploke-sclews
LOCATION:Hatch 107 Harwood St - Hatch 107 Harwood St
STATUS:CONFIRMED
CATEGORIES:patternclub
X-ALT-DESC;FMTTYPE=text/html: Hatch x Pattern Club: c_robo_ / Iris Ipsum / 
	Epiploke / sclews<br>https://patternclub.org/events/hatch-x-pattern-club-c
	_robo_-iris-ipsum-epiploke-sclews/
BEGIN:VALARM
ACTION:DISPLAY
DESCRIPTION:Hatch x Pattern Club: c_robo_ / Iris Ipsum / Epiploke / sclews
TRIGGER:-PT1H
END:VALARM
END:VEVENT
END:VCALENDAR
