BEGIN:VCALENDAR
VERSION:2.0
CALSCALE:GREGORIAN
PRODID:adamgibbons/ics
METHOD:PUBLISH
X-PUBLISHED-TTL:PT1H
BEGIN:VEVENT
UID:14@boring.patternclub.org
SUMMARY:End of cycle party
DTSTAMP:20260425T184455Z
DTSTART:20251214T190000Z
DTEND:20251214T220000Z
DESCRIPTION:End of cycle party https://patternclub.org/events/end-of-cycle-
	party/
URL:https://boring.patternclub.org/event/end-of-cycle-party
LOCATION:Sidney and Matilda Rivelin Works - Sidney St\,  Sheffield S1 4RH
STATUS:CONFIRMED
CATEGORIES:patternclub
X-ALT-DESC;FMTTYPE=text/html: End of cycle party<br>https://patternclub.org
	/events/end-of-cycle-party/
BEGIN:VALARM
ACTION:DISPLAY
DESCRIPTION:End of cycle party
TRIGGER:-PT1H
END:VALARM
END:VEVENT
END:VCALENDAR
