BEGIN:VCALENDAR
VERSION:2.0
CALSCALE:GREGORIAN
PRODID:adamgibbons/ics
METHOD:PUBLISH
X-PUBLISHED-TTL:PT1H
BEGIN:VEVENT
UID:8@boring.patternclub.org
SUMMARY:Bharatanāṭyam workshop with Janani Suresh Ram
DTSTAMP:20260425T184455Z
DTSTART:20260205T183000Z
DTEND:20260205T203000Z
DESCRIPTION:Bharatanāṭyam workshop with Janani Suresh Ram\nhttps://patternc
	lub.org/events/bharatana%e1%b9%adyam-workshop-with-janani-suresh-ram/
URL:https://boring.patternclub.org/event/bharatanayam-workshop-with-janani-
	suresh-ram
LOCATION:Theatre Workshop 4a Shearwood Rd - Broomhall
STATUS:CONFIRMED
CATEGORIES:patternclub
X-ALT-DESC;FMTTYPE=text/html: Bharatanāṭyam workshop with Janani Suresh Ram
	<br>https://patternclub.org/events/bharatana%e1%b9%adyam-workshop-with-jan
	ani-suresh-ram/
BEGIN:VALARM
ACTION:DISPLAY
DESCRIPTION:Bharatanāṭyam workshop with Janani Suresh Ram
TRIGGER:-PT1H
END:VALARM
END:VEVENT
END:VCALENDAR
