BEGIN:VCALENDAR
VERSION:2.0
CALSCALE:GREGORIAN
PRODID:adamgibbons/ics
METHOD:PUBLISH
X-PUBLISHED-TTL:PT1H
BEGIN:VEVENT
UID:2@boring.patternclub.org
SUMMARY:asdf
DTSTAMP:20260425T005345Z
DTSTART:20260424T231000Z
URL:https://boring.patternclub.org/event/asdf
LOCATION:Sheffield Pattern Club - 2-4 Matilda Street\, Sheffield\, S1 4QD
STATUS:CONFIRMED
CATEGORIES:
BEGIN:VALARM
ACTION:DISPLAY
DESCRIPTION:asdf
TRIGGER:-PT1H
END:VALARM
END:VEVENT
END:VCALENDAR
