BEGIN:VCALENDAR
VERSION:2.0
CALSCALE:GREGORIAN
PRODID:adamgibbons/ics
METHOD:PUBLISH
X-PUBLISHED-TTL:PT1H
BEGIN:VEVENT
UID:18@boring.patternclub.org
SUMMARY:Alpaca Festival
DTSTAMP:20260425T184358Z
DTSTART:20250912T100000Z
DTEND:20250914T235900Z
DESCRIPTION:Alpaca Festival https://patternclub.org/events/alpaca-festival/
URL:https://boring.patternclub.org/event/alpaca-festival-1
LOCATION:Unknown Place - Unknown Place
STATUS:CONFIRMED
CATEGORIES:patternclub
X-ALT-DESC;FMTTYPE=text/html: Alpaca Festival<br>https://patternclub.org/ev
	ents/alpaca-festival/
BEGIN:VALARM
ACTION:DISPLAY
DESCRIPTION:Alpaca Festival
TRIGGER:-PT1H
END:VALARM
END:VEVENT
END:VCALENDAR
