BEGIN:VCALENDAR
VERSION:2.0
CALSCALE:GREGORIAN
PRODID:adamgibbons/ics
METHOD:PUBLISH
X-PUBLISHED-TTL:PT1H
BEGIN:VEVENT
UID:35@boring.patternclub.org
SUMMARY:Algorithmic Pattern Salon 2023
DTSTAMP:20260425T183911Z
DTSTART:20231123T140000Z
DTEND:20231123T170000Z
DESCRIPTION:Algorithmic Pattern Salon 2023\nhttps://patternclub.org/events/
	algorithmic-pattern-salon-2023/
URL:https://boring.patternclub.org/event/algorithmic-pattern-salon-2023
LOCATION:Unknown Place - Unknown Place
STATUS:CONFIRMED
CATEGORIES:patternclub
X-ALT-DESC;FMTTYPE=text/html: Algorithmic Pattern Salon 2023<br>https://pat
	ternclub.org/events/algorithmic-pattern-salon-2023/
BEGIN:VALARM
ACTION:DISPLAY
DESCRIPTION:Algorithmic Pattern Salon 2023
TRIGGER:-PT1H
END:VALARM
END:VEVENT
END:VCALENDAR
