BEGIN:VCALENDAR
VERSION:2.0
CALSCALE:GREGORIAN
PRODID:adamgibbons/ics
METHOD:PUBLISH
X-PUBLISHED-TTL:PT1H
BEGIN:VEVENT
UID:26@boring.patternclub.org
SUMMARY:Algorave Sheffield
DTSTAMP:20260425T184209Z
DTSTART:20250418T193000Z
DTEND:20250418T233000Z
DESCRIPTION:Algorave Sheffield https://patternclub.org/events/algorave-shef
	field/
URL:https://boring.patternclub.org/event/algorave-sheffield
LOCATION:Alder Bar Percy St - Neepsend\,  S3 8BT
STATUS:CONFIRMED
CATEGORIES:patternclub
X-ALT-DESC;FMTTYPE=text/html: Algorave Sheffield<br>https://patternclub.org
	/events/algorave-sheffield/
BEGIN:VALARM
ACTION:DISPLAY
DESCRIPTION:Algorave Sheffield
TRIGGER:-PT1H
END:VALARM
END:VEVENT
END:VCALENDAR
